BEGIN:VCALENDAR
VERSION:2.0
PRODID:-//wp-events-plugin.com//6.6.3//EN
BEGIN:VEVENT
UID:135@ralpholibrary.org
DTSTART:20251009T170000Z
DTEND:20251009T180000Z
DTSTAMP:20250910T145557Z
URL:https://ralpholibrary.org/events/after-school-drawing-club-2/
SUMMARY:After School Drawing Club
DESCRIPTION:We will meet the second Thursday of each month from 5:00-6:00pm
  for children of all ages. Learn basic drawing techniques and other forms 
 of drawing.
END:VEVENT
END:VCALENDAR