BEGIN:VCALENDAR
VERSION:2.0
PRODID:-//wp-events-plugin.com//6.6.3//EN
BEGIN:VEVENT
UID:324@ralpholibrary.org
DTSTART:20260409T173000Z
DTEND:20260409T183000Z
DTSTAMP:20260325T180344Z
URL:https://ralpholibrary.org/events/after-school-drawing-club-8/
SUMMARY:After School Drawing Club
DESCRIPTION:Learn basic drawing techniques and other forms of drawing for c
 hildren of all ages.
END:VEVENT
END:VCALENDAR