BEGIN:VCALENDAR
VERSION:2.0
PRODID:-//wp-events-plugin.com//6.6.3//EN
BEGIN:VEVENT
UID:118@ralpholibrary.org
DTSTART:20251021T130000Z
DTEND:20251021T150000Z
DTSTAMP:20251020T215856Z
URL:https://ralpholibrary.org/events/american-mahjong-22/
SUMMARY:American Mahjong
DESCRIPTION:Learn to play mahjong every week with fellow players! All level
 s are welcome.
END:VEVENT
END:VCALENDAR