BEGIN:VCALENDAR
VERSION:2.0
PRODID:-//wp-events-plugin.com//6.6.3//EN
BEGIN:VEVENT
UID:329@ralpholibrary.org
DTSTART:20260414T130000Z
DTEND:20260414T150000Z
DTSTAMP:20260325T180752Z
URL:https://ralpholibrary.org/events/american-mahjong-44/
SUMMARY:American Mahjong
DESCRIPTION:
END:VEVENT
END:VCALENDAR