BEGIN:VCALENDAR
VERSION:2.0
PRODID:-//wp-events-plugin.com//6.6.3//EN
BEGIN:VEVENT
UID:134@ralpholibrary.org
DTSTART:20251002T170000Z
DTEND:20251002T180000Z
DTSTAMP:20250910T145505Z
URL:https://ralpholibrary.org/events/anime-manga-club-2/
SUMMARY:Anime & Manga Club
DESCRIPTION:Anime &amp\; Manga Club will be held the first Thursday of each
  month from 5:00-6:00 pm for kids of all ages.
END:VEVENT
END:VCALENDAR