BEGIN:VCALENDAR
VERSION:2.0
PRODID:-//wp-events-plugin.com//6.6.3//EN
BEGIN:VEVENT
UID:131@ralpholibrary.org
DTSTART:20251013T180000Z
DTEND:20251013T190000Z
DTSTAMP:20250910T144803Z
URL:https://ralpholibrary.org/events/bloomsburg-childrens-museum-mobile-ma
 ker-class-4/
SUMMARY:Bloomsburg Children's Museum Mobile Maker Class
DESCRIPTION:For grades K-6. Please register by calling/emailing/stopping at
  the library (570-672-9449\, librraian@ralpholibrary.org).\n\nInfo needed:
  child's name\, age\, parent/guardian name\, phone number.
END:VEVENT
END:VCALENDAR