BEGIN:VCALENDAR
VERSION:2.0
PRODID:-//wp-events-plugin.com//6.6.3//EN
BEGIN:VEVENT
UID:340@ralpholibrary.org
DTSTART:20260423T173000Z
DTEND:20260423T183000Z
DTSTAMP:20260326T191742Z
URL:https://ralpholibrary.org/events/book-bingo-10/
SUMMARY:Book Bingo
DESCRIPTION:Book Bingo will take place the fourth Thursday of every month f
 rom 5:30-6:30pm! All ages are welcome to test their luck to win a book (al
 l different genres and reading levels)\, movie\, or puzzle!
END:VEVENT
END:VCALENDAR