BEGIN:VCALENDAR
VERSION:2.0
PRODID:-//wp-events-plugin.com//6.6.3//EN
BEGIN:VEVENT
UID:127@ralpholibrary.org
DTSTART:20251007T180000Z
DTEND:20251007T210000Z
DTSTAMP:20250910T144409Z
URL:https://ralpholibrary.org/events/bridge-club-19/
SUMMARY:Bridge Club
DESCRIPTION:
END:VEVENT
END:VCALENDAR