BEGIN:VCALENDAR
VERSION:2.0
PRODID:-//wp-events-plugin.com//6.6.3//EN
BEGIN:VEVENT
UID:128@ralpholibrary.org
DTSTART:20251014T180000Z
DTEND:20251014T210000Z
DTSTAMP:20250910T144426Z
URL:https://ralpholibrary.org/events/bridge-club-20/
SUMMARY:Bridge Club
DESCRIPTION:
END:VEVENT
END:VCALENDAR