BEGIN:VCALENDAR
VERSION:2.0
PRODID:-//wp-events-plugin.com//6.6.3//EN
BEGIN:VEVENT
UID:129@ralpholibrary.org
DTSTART:20251021T180000Z
DTEND:20251021T210000Z
DTSTAMP:20250910T144449Z
URL:https://ralpholibrary.org/events/bridge-club-21/
SUMMARY:Bridge Club
DESCRIPTION:
END:VEVENT
END:VCALENDAR