BEGIN:VCALENDAR
VERSION:2.0
PRODID:-//wp-events-plugin.com//6.6.3//EN
BEGIN:VEVENT
UID:130@ralpholibrary.org
DTSTART:20251028T180000Z
DTEND:20251028T210000Z
DTSTAMP:20250910T144509Z
URL:https://ralpholibrary.org/events/bridge-club-22/
SUMMARY:Bridge Club
DESCRIPTION:
END:VEVENT
END:VCALENDAR