BEGIN:VCALENDAR
VERSION:2.0
PRODID:-//wp-events-plugin.com//6.6.3//EN
BEGIN:VEVENT
UID:323@ralpholibrary.org
DTSTART:20260407T173000Z
DTEND:20260407T203000Z
DTSTAMP:20260326T192648Z
URL:https://ralpholibrary.org/events/bridge-club-33/
SUMMARY:Bridge Club
DESCRIPTION:\n\nJoin fellow bridge players every Tuesday starting at 5:30 p
 m! Learn how to play and meet new friends!\n\n
END:VEVENT
END:VCALENDAR