BEGIN:VCALENDAR
VERSION:2.0
PRODID:-//wp-events-plugin.com//6.6.3//EN
BEGIN:VEVENT
UID:334@ralpholibrary.org
DTSTART:20260417T130000Z
DTEND:20260417T140000Z
DTSTAMP:20260415T123757Z
URL:https://ralpholibrary.org/events/coloring-for-calm-29/
SUMMARY:Coloring For Calm
DESCRIPTION:We will meet every Friday from 1:00-2:00pm. This program is mos
 tly intended for adults\, but all ages are welcome to join!
END:VEVENT
END:VCALENDAR