BEGIN:VCALENDAR
VERSION:2.0
PRODID:-//wp-events-plugin.com//6.6.3//EN
BEGIN:VEVENT
UID:321@ralpholibrary.org
DTSTART:20260406T000000Z
DTEND:20260411T000000Z
DTSTAMP:20260325T175826Z
URL:https://ralpholibrary.org/events/egg-hunt-at-the-library/
SUMMARY:Egg hunt at the library!
DESCRIPTION:In the spirit of recent holidays\, visit the library and take a
  look around. There may be some eggs hiding in the shelves and stacks! Eac
 h egg has two candy treats inside for you to enjoy. This is a casual scave
 nger hunt and it’s all in good fun! We do kindly ask that while you are 
 looking that each child goes home with maximum two eggs.
END:VEVENT
END:VCALENDAR