BEGIN:VCALENDAR
VERSION:2.0
PRODID:-//wp-events-plugin.com//6.6.3//EN
BEGIN:VEVENT
UID:136@ralpholibrary.org
DTSTART:20251016T170000Z
DTEND:20251016T183000Z
DTSTAMP:20250910T145740Z
URL:https://ralpholibrary.org/events/ela-tutoring-2/
SUMMARY:ELA Tutoring
DESCRIPTION:\n\n\n\n\n\n\n\nOn the third Thursday of every month at 5pm\, t
 he library will be offering ELA tutoring for grades K-12 and beyond! Pleas
 e make sure to email us at librarian@ralpholibrary.org to reserve a spot. 
 Reservations are REQUIRED\, so we can cater the tutoring session to fit yo
 ur needs!\n\nTime slots are 30 minutes or 1 hour.\n\n\n\n\n\n\n\n
END:VEVENT
END:VCALENDAR