BEGIN:VCALENDAR
VERSION:2.0
PRODID:-//wp-events-plugin.com//6.6.3//EN
BEGIN:VEVENT
UID:124@ralpholibrary.org
DTSTART:20251007T133000Z
DTEND:20251007T143000Z
DTSTAMP:20250910T144236Z
URL:https://ralpholibrary.org/events/grief-support-7/
SUMMARY:Grief Support
DESCRIPTION:To RSVP\, please call 570-473-6317
END:VEVENT
END:VCALENDAR