BEGIN:VCALENDAR
VERSION:2.0
PRODID:-//wp-events-plugin.com//6.6.3//EN
BEGIN:VEVENT
UID:133@ralpholibrary.org
DTSTART:20251020T173000Z
DTEND:20251020T183000Z
DTSTAMP:20250910T145043Z
URL:https://ralpholibrary.org/events/halloween-craft-class/
SUMMARY:Halloween Craft Class
DESCRIPTION:\nSpooky season is here\, and we’ve got the perfect craft nig
 ht for you!\n\n\nOur October Adult Crafting Class (on Monday\, Oct 20\, fr
 om 5:30-6:30pm) has 15 spots available! We’ll be creating spooky Hallowe
 en repaints! Just bring an old art print or painting from home to transfor
 m\, all other supplies are provided by the library.\n\n\n This free class 
 is for adults!\n Call us at 570-436-0945 or email librarian@ralpholibrary.
 org to reserve your spot today.\n
END:VEVENT
END:VCALENDAR