BEGIN:VCALENDAR
VERSION:2.0
PRODID:-//wp-events-plugin.com//6.6.3//EN
BEGIN:VEVENT
UID:137@ralpholibrary.org
DTSTART:20251023T170000Z
DTEND:20251023T180000Z
DTSTAMP:20250910T145955Z
URL:https://ralpholibrary.org/events/hemlock-hannah-pennsylvania-cryptids-
 tall-tales/
SUMMARY:Hemlock Hannah: Pennsylvania Cryptids & Tall Tales
DESCRIPTION:Have you ever learned of our local claim-to-fame cryptid\, the 
 Pennsylvania Squonk? Heard of the Hex Cat? Listen to Hemlock Hannah’s fe
 arsome tales of local legends\, creatures\, hauntings\, and happenings! En
 joy a bonus art component where you design your own cryptid. The presentat
 ion is family friendly\, but please use discretion with spooky-sensitive y
 oung children.
END:VEVENT
END:VCALENDAR