BEGIN:VCALENDAR
VERSION:2.0
PRODID:-//wp-events-plugin.com//6.6.3//EN
BEGIN:VEVENT
UID:335@ralpholibrary.org
DTSTART:20260418T100000Z
DTEND:20260418T120000Z
DTSTAMP:20260325T184101Z
URL:https://ralpholibrary.org/events/lego-club-8/
SUMMARY:Lego Club
DESCRIPTION:Join us for Lego Club at the library! All ages are welcome.
END:VEVENT
END:VCALENDAR