BEGIN:VCALENDAR
VERSION:2.0
PRODID:-//wp-events-plugin.com//6.6.3//EN
BEGIN:VEVENT
UID:346@ralpholibrary.org
DTSTART:20260428T133000Z
DTEND:20260428T143000Z
DTSTAMP:20260326T192341Z
URL:https://ralpholibrary.org/events/living-with-grief-5/
SUMMARY:Living With Grief
DESCRIPTION:Living With Grief is hosted by Geisinger Bereavement Coordinato
 r\, Carrie. To RSVP\, please call 570-473-6317.
END:VEVENT
END:VCALENDAR