BEGIN:VCALENDAR
VERSION:2.0
PRODID:-//wp-events-plugin.com//6.6.3//EN
BEGIN:VEVENT
UID:349@ralpholibrary.org
DTSTART:20260420T170000Z
DTEND:20260420T183000Z
DTSTAMP:20260327T164357Z
URL:https://ralpholibrary.org/events/national-poetry-month-poetry-workshop
 /
SUMMARY:National Poetry Month Poetry Workshop
DESCRIPTION:
END:VEVENT
END:VCALENDAR