BEGIN:VCALENDAR
VERSION:2.0
PRODID:-//wp-events-plugin.com//6.6.3//EN
BEGIN:VEVENT
UID:336@ralpholibrary.org
DTSTART:20260420T183000Z
DTEND:20260420T193000Z
DTSTAMP:20260326T191430Z
URL:https://ralpholibrary.org/events/ralpho-readers-book-club-10/
SUMMARY:Ralpho Readers Book Club
DESCRIPTION:April book: The Heaven &amp\; Earth Grocery Store by James McBr
 ide. Copies can be picked up at the library!
END:VEVENT
END:VCALENDAR