BEGIN:VCALENDAR
VERSION:2.0
PRODID:-//wp-events-plugin.com//6.6.3//EN
BEGIN:VEVENT
UID:132@ralpholibrary.org
DTSTART:20251020T190000Z
DTEND:20251020T200000Z
DTSTAMP:20250910T144906Z
URL:https://ralpholibrary.org/events/ralpho-readers-book-club-4/
SUMMARY:Ralpho Readers Book Club
DESCRIPTION:October book: Vanishing Girls by Lisa Regan. Copies can be pic
 ked up at the library!
END:VEVENT
END:VCALENDAR