BEGIN:VCALENDAR
VERSION:2.0
PRODID:-//wp-events-plugin.com//6.6.3//EN
BEGIN:VEVENT
UID:348@ralpholibrary.org
DTSTART:20260430T173000Z
DTEND:20260430T183000Z
DTSTAMP:20260326T193149Z
URL:https://ralpholibrary.org/events/ralphos-enchanted-realm-2/
SUMMARY:Ralpho's Enchanted Realm
DESCRIPTION:This is a romantasy book club mostly intended for adults. Our f
 irst book is The Knight and the Moth by Rachel Gillig! Come join our encha
 nting conversation and meet other bookish people!
END:VEVENT
END:VCALENDAR