BEGIN:VCALENDAR
VERSION:2.0
PRODID:-//wp-events-plugin.com//6.6.3//EN
BEGIN:VEVENT
UID:327@ralpholibrary.org
DTSTART:20260411T103000Z
DTEND:20260411T113000Z
DTSTAMP:20260325T180655Z
URL:https://ralpholibrary.org/events/saturday-story-time-7/
SUMMARY:Saturday Story Time
DESCRIPTION:Join us on Saturday\, April 11\, from 10:30–11:30 am for a co
 zy morning of stories\, songs\, and movement.\n\nChildren must be accompan
 ied by an adult.
END:VEVENT
END:VCALENDAR