BEGIN:VCALENDAR
VERSION:2.0
PRODID:-//wp-events-plugin.com//6.6.3//EN
BEGIN:VEVENT
UID:344@ralpholibrary.org
DTSTART:20260427T180000Z
DTEND:20260427T184500Z
DTSTAMP:20260326T192251Z
URL:https://ralpholibrary.org/events/yoga-with-marguerite/
SUMMARY:Yoga With Marguerite
DESCRIPTION:Sponsored by M&amp\;T Bank:Join us for a calm\, comfortable eve
 ning designed for patrons who prefer a quieter\, less-stimulating environm
 ent. On the fourth Monday of every month\, from 6-6:45pm in the Township M
 eeting Room\, Marguerite Elaine\, a licensed yoga instructor\, will be hos
 ting a mindful\, breathing yoga class that is sensory friendly.This class 
 is intended for all ages and experience levels. Feel free to come with a c
 ompanion for a relaxing night at the library!Waivers will need to be signe
 d beforehand. To reserve your spot\, call 570-672-9449 or email librarian@
 ralpholibrary.org
END:VEVENT
END:VCALENDAR